BEGIN:VCALENDAR
VERSION:2.0
PRODID:-//eventon.com NONSGML v1.0//EN
CALSCALE:GREGORIAN
METHOD:PUBLISH
BEGIN:VEVENT
UID:69eb2d67635dd
DTSTAMP:20260424T084423Z
DTSTART:20260701T050000Z
DTEND:20260701T105900Z
LOCATION:Float N’ Flag Dive Centre
SUMMARY:RESCUE DIVER - June 30\,  July 2\,  4 & 5
DESCRIPTION:Schedule: Session #1 @ 6:00pm: Classroom at Float N’ Flag Div
 e Centre Session #2 @ 6:00pm: Classroom at Float N’ Flag Dive Centre Sess
 ion #3 @ 9:00am – 4:00pm : Gullivers – Training &#038; Scenarios Sessio
 n #4 @ 9:00am – 4:00pm : Gullivers – Training &#038; Scenarios\nhttps:/
 /floatnflag.com/events/rescue-diver-june-30-july-2-4-5/
URL:https://floatnflag.com/events/rescue-diver-june-30-july-2-4-5/
END:VEVENT
END:VCALENDAR