BEGIN:VCALENDAR
VERSION:2.0
PRODID:-//eventon.com NONSGML v1.0//EN
CALSCALE:GREGORIAN
METHOD:PUBLISH
BEGIN:VEVENT
UID:69eb2c366bbce
DTSTAMP:20260424T083918Z
DTSTART:20260819T050000Z
DTEND:20260819T105900Z
LOCATION:Float N’ Flag Dive Centre
SUMMARY:RESCUE DIVER - Aug 18\,  19\,  22\,  23
DESCRIPTION:Schedule: Session #1 @ 6:00pm: Classroom at Float N’ Flag Div
 e Centre Session #2 @ 6:00pm: Classroom at Float N’ Flag Dive Centre Sess
 ion #3 @ 9:00am – 4:00pm : Gullivers – Training &#038; Scenarios Sessio
 n #4 @ 9:00am – 4:00pm : Gullivers – Training &#038; Scenarios\nhttps:/
 /floatnflag.com/events/rescue-diver-aug-18-19-22-23/
URL:https://floatnflag.com/events/rescue-diver-aug-18-19-22-23/
END:VEVENT
END:VCALENDAR